BEGIN:VCALENDAR
VERSION:2.0
PRODID:-//Squarespace Inc/Squarespace 6//v6//EN
BEGIN:VEVENT
UID:57d0fa3303596e66101d8ef8@squarespace.com
DTSTAMP:20161115T104405Z
DTSTART:20160108T190000Z
DTEND:20181231T200000Z
SUMMARY:Unavailable
END:VEVENT
END:VCALENDAR
